BEGIN:VCALENDAR
VERSION:2.0
PRODID:-//innsbruckuniversity/eventcalendar//NONSGML Calendar Version 1.0//EN
METHOD:PUBLISH

BEGIN:VEVENT
TZID: Europe/Vienna
DTSTART:20260504T090000
DTEND:20260508T173000
SUMMARY:Reconsidering Imperial Dynamics and Geographies of Power: Imperial Reach and Imperial Impact in Afro-Eurasia through the Ages
LOCATION:Archäologisches Museum Innsbruck (3. Stock), Campus Innrain Hauptgebäude
END:VEVENT

END:VCALENDAR
