BEGIN:VCALENDAR
VERSION:2.0
PRODID:-//innsbruckuniversity/eventcalendar//NONSGML Calendar Version 1.0//EN
METHOD:PUBLISH

BEGIN:VEVENT
TZID: Europe/Vienna
DTSTART:20260504T100000
DTEND:20260504T120000
SUMMARY:Migrazione e costituzione
LOCATION:Hauptgebäude, 3. Stock, UR 3108
END:VEVENT

END:VCALENDAR
