BEGIN:VCALENDAR
VERSION:2.0
PRODID:-//innsbruckuniversity/eventcalendar//NONSGML Calendar Version 1.0//EN
METHOD:PUBLISH

BEGIN:VEVENT
TZID: Europe/Vienna
DTSTART:20260504T193000
DTEND:20260504T210000
SUMMARY:Die Zukunft der Philologien: The Future of Play is the Future of Universities… and the World
LOCATION:HS5 3/4
END:VEVENT

END:VCALENDAR
