BEGIN:VCALENDAR
VERSION:2.0
PRODID:-//innsbruckuniversity/eventcalendar//NONSGML Calendar Version 1.0//EN
METHOD:PUBLISH

BEGIN:VEVENT
TZID: Europe/Vienna
DTSTART:20260504T171500
DTEND:20260504T184500
SUMMARY:Didaktik am Abend - "Mensch-Umwelt-Beziehung verstehen. Ökolinguistische Perspektiven auf Wahrnehmung, Denken und Handeln im Unterricht"
LOCATION:Campus Innrain, Geiwi, Hörsaal 5, EG 
END:VEVENT

END:VCALENDAR
