BEGIN:VCALENDAR
VERSION:2.0
PRODID:-//innsbruckuniversity/eventcalendar//NONSGML Calendar Version 1.0//EN
METHOD:PUBLISH

BEGIN:VEVENT
TZID: Europe/Vienna
DTSTART:20260428T180000
DTEND:20260428T193000
SUMMARY:Gaspar Manius’ Commentary on Propertius’ Elegies: First Investigations
LOCATION:Ágnes-Heller-Haus, 1. Stock, SR 6
END:VEVENT

END:VCALENDAR
