BEGIN:VCALENDAR
VERSION:2.0
PRODID:-//innsbruckuniversity/eventcalendar//NONSGML Calendar Version 1.0//EN
METHOD:PUBLISH

BEGIN:VEVENT
TZID: Europe/Vienna
DTSTART:20260428T160000
DTEND:20260428T181500
SUMMARY:CIIT Minisymposium "New trends and challenges in Virology"
LOCATION:Großer Hörsaal MZA
END:VEVENT

END:VCALENDAR
