BEGIN:VCALENDAR
VERSION:2.0
PRODID:-//innsbruckuniversity/eventcalendar//NONSGML Calendar Version 1.0//EN
METHOD:PUBLISH

BEGIN:VEVENT
TZID: Europe/Vienna
DTSTART:20260428T100000
DTEND:20260630T160000
SUMMARY:Barth meets Gerstel ...in Innsbruck. Architektur als Lehre
LOCATION:Archiv für Bau.Kunst.Geschichte im Adambräu, Ebene 6
END:VEVENT

END:VCALENDAR
