BEGIN:VCALENDAR
VERSION:2.0
PRODID:-//innsbruckuniversity/eventcalendar//NONSGML Calendar Version 1.0//EN
METHOD:PUBLISH

BEGIN:VEVENT
TZID: Europe/Vienna
DTSTART:20260427T150000
DTEND:20260427T170000
SUMMARY:ALL INN – Vernetzungs- & Pitch-Event 
LOCATION:Büro für Öffentlichkeitsarbeit der Universität Innsbruck 
END:VEVENT

END:VCALENDAR
