BEGIN:VCALENDAR
VERSION:2.0
PRODID:-//innsbruckuniversity/eventcalendar//NONSGML Calendar Version 1.0//EN
METHOD:PUBLISH

BEGIN:VEVENT
TZID: Europe/Vienna
DTSTART:20260424T170000
DTEND:20260424T230000
SUMMARY:Archive Alive – Was macht eigentlich ein Literaturarchiv?
LOCATION:Forschungsinstitut Brenner-Archiv
END:VEVENT

END:VCALENDAR
