BEGIN:VCALENDAR
VERSION:2.0
PRODID:-//innsbruckuniversity/eventcalendar//NONSGML Calendar Version 1.0//EN
METHOD:PUBLISH

BEGIN:VEVENT
TZID: Europe/Vienna
DTSTART:20260422T081000
DTEND:20260422T084500
SUMMARY:Hepatitis B-Reaktivierung: Ein unterschätztes Risiko bei Immunsuppression
LOCATION:Univ.-Klinik für Dermatologie, Venerologie und Allergologie, Hörsaal Hautklinik (1. Stock)
END:VEVENT

END:VCALENDAR
